BEGIN:VCALENDAR
VERSION:2.0
PRODID:-//Huntsville AI - ECPv6.8.3//NONSGML v1.0//EN
CALSCALE:GREGORIAN
METHOD:PUBLISH
X-WR-CALNAME:Huntsville AI
X-ORIGINAL-URL:https://www.hsv.ai
X-WR-CALDESC:Events for Huntsville AI
REFRESH-INTERVAL;VALUE=DURATION:PT1H
X-Robots-Tag:noindex
X-PUBLISHED-TTL:PT1H
BEGIN:VTIMEZONE
TZID:America/Chicago
BEGIN:DAYLIGHT
TZOFFSETFROM:-0600
TZOFFSETTO:-0500
TZNAME:CDT
DTSTART:20260308T080000
END:DAYLIGHT
BEGIN:STANDARD
TZOFFSETFROM:-0500
TZOFFSETTO:-0600
TZNAME:CST
DTSTART:20261101T070000
END:STANDARD
END:VTIMEZONE
BEGIN:VEVENT
DTSTART;TZID=America/Chicago:20260204T180000
DTEND;TZID=America/Chicago:20260204T193000
DTSTAMP:20260423T070756
CREATED:20260202T033650Z
LAST-MODIFIED:20260202T033650Z
UID:2141-1770228000-1770233400@www.hsv.ai
SUMMARY:AI Symposium Recap
DESCRIPTION:We’re meeting this Wednesday at 6pm in the executive conference room at HudsonAlpha. The door is on the right as you walk up to the main entrance. \nWe’ll do a rundown of all of the sessions at the AI Symposium that we were able to cover. There were several slots where there were two sessions and one workshop all going at the same time\, so it’s only possible to cover the entire schedule by dividing and conquering. \nWe’ll also capture comments that we can flow back to the organizers to prepare for next year. \n\n\n\n\n\n\n\n\n\n\n\n\n\n\n\n\n\n\n\n\n\n\n\n\n\n\n\n\n\n\nComing Up: \nNext week we will have a virtual paper review led by Josh Phillips. We will be dissecting SAM 3 (Segment Anything Model 3)\, a unified model that bridges the gap between geometric segmentation (clicks and boxes) and semantic understanding (text and concepts). I’ll get more details out later this week. \nThere’s also a new monthly meetup at UAH I2C that Carl Holden (Zellus Marketing) and the ARC are starting. They are starting off with a demo of Lovable that should be interesting\, as well as providing food & drinks. There is no cost for this meetup. More info at the cool Lovable site that Carl thew out there – https://ai-after-hours.lovable.app/\n\n\n\n\n\n\n\n\n\n\n\n\n\n\n\n\n\n\n\n\n\n\n\n\n\n\n\n\n\nAI Huntsville Workforce Development Committee: \nWe met in January to start planning for the year and see how we can impact the workforce in the Huntsville area. The strategy that I’m advising here is that we find a way to measure the AI Literacy of the greater Huntsville workforce. Then we can put together a strategy to “move the needle” to drive adoption of AI tools that will make us more productive\, while watching the risk of tasks being replaced by AI driven automation. \nIf you have thoughts in this direction\, please let me know. We’re doing a working lunch this week to try to put together a session for March.\n\n\n\n\n\n\n\n\n\n\n\n\n\n\n\nLinks: \n\nI was going to link to the SRC AI Symposium page\, but I get an access denied 🙁\n\nDetails: \n\nDate – 02/04/2026\nTime – 6:00 – 7:30 pm\nLocation – HudsonAlpha – Executive Conference Room\nAddress – 601 Genome Way Northwest\, Huntsville\, AL 35806\nGoogle Meet – https://meet.google.com/qbz-ehjb-qij
URL:https://www.hsv.ai/event/ai-symposium-recap/
LOCATION:HudsonAlpha\, 601 Genome Way Northwest\, Huntsville\, AL\, 35806
ATTACH;FMTTYPE=image/png:https://www.hsv.ai/wp-content/uploads/2026/02/Gemini_Generated_Image_jfsq53jfsq53jfsq.png
END:VEVENT
BEGIN:VEVENT
DTSTART;TZID=America/Chicago:20260211T180000
DTEND;TZID=America/Chicago:20260211T193000
DTSTAMP:20260423T070756
CREATED:20260206T173602Z
LAST-MODIFIED:20260206T181634Z
UID:2144-1770832800-1770838200@www.hsv.ai
SUMMARY:Virtual Paper Review – SegementAnything3: Segment Video with Text
DESCRIPTION:Join us virtually Wednesday Feb 11th at 6 pm CST to continue our monthly Paper Review series! We will be dissecting SAM 3 (Segment Anything Model 3)\, a unified model that bridges the gap between geometric segmentation (clicks and boxes) and semantic understanding (text and concepts). While previous versions excelled at “segmenting that thing\,” SAM 3 introduces Promptable Concept Segmentation (PCS)\, the ability to find\, segment\, and track all instances of a specific concept (e.g.\, “striped cat” or “red apple”) across both images and videos. \nTopics we will cover :\n\nPVS vs. PCS: The evolution from Promptable Visual Segmentation (points/masks) to Promptable Concept Segmentation (noun phrases/exemplars).\nLocalization-Recognition Conflict: Why forcing a model to know “where” something is often conflicts with knowing “what” it is\, and how open-vocabulary detection has historically struggled with this.\nData Engine Basics: The role of human-in-the-loop vs. model-in-the-loop pipelines for generating massive-scale segmentation datasets.\nArchitecture: How SAM 3 fuses an image-level DETR-based detector with a memory-based video tracker using a shared Perception Encoder (PE) backbone.\nPresence Head: A look at the novel “presence token” that decouples recognition (is the concept in the image?) from localization (where are the pixels?)\nSA-Co dataset (4M unique concepts).\nVideo Disambiguation: Strategies for handling temporal ambiguity\, including “masklet” suppression and periodic re-prompting during tracking failures.\n\nLinks: \n\nPaper:\nhttps://ai.meta.com/research/publications/segment-anything-model-3-sam-3/\nCode:\nhttps://github.com/facebookresearch/sam3\nDemo:\nhttps://segment-anything.com\n\nDetails: \n\nDate – 02/11/2026\nTime – 6:00 – 7:30 pm\nLocation – VIRTUAL\nGoogle Meet – https://meet.google.com/drf-dydt-mgn
URL:https://www.hsv.ai/event/virtual-paper-review-segementanything3-segment-video-with-text/
ATTACH;FMTTYPE=image/jpeg:https://www.hsv.ai/wp-content/uploads/2026/02/SAM3-Paper-Review.jpeg
END:VEVENT
BEGIN:VEVENT
DTSTART;TZID=America/Chicago:20260225T180000
DTEND;TZID=America/Chicago:20260225T193000
DTSTAMP:20260423T070756
CREATED:20260223T035258Z
LAST-MODIFIED:20260223T035258Z
UID:2150-1772042400-1772047800@www.hsv.ai
SUMMARY:Vibe Coding Tips and Tricks
DESCRIPTION:There have been a lot of recent advancements in both models and tools used for AI assisted coding. Some of these tools are more agentic\, while others are still chat-based. There has also been a lot of movement by the big AI companies to either acquihire opensource projects or use other approaches to gain an advantage. \nFor this session\, we will share our successes and failures with using these tools. I know that we will likely have folks in the room actively using Claude Code\, Codex\, Cline\, OpenCode\, and maybe a few others. If you would like to come and share your setup\, that would be appreciated as well. \nHere are some of the concepts that we will try to make sense of. Each tool seems to have its own set of terminology which may or may not overlap with others. \n\nPrompts\nSpecs\nTasks\nSkills\nAgents\nHooks\nMemory Bank\n\nHopefully we will come to some sort of collection of practices that others entering this phase of development can use as a starting point. \n\n\n\n\n\n\n\n\n\n\n\n\n\n\n\n\n\n\n\n\n\n\n\n\n\n\n\n\n\n\n\n\n\n\n\n\n\nLinks: \n\nI don’t know what Zencoder is\, but this is a pretty good intro for spec driven development – https://docs.zencoder.ai/user-guides/tutorials/spec-driven-development-guide\n\nDetails: \n\nDate – 02/25/2026\nTime – 6:00 – 7:30 pm\nLocation – HudsonAlpha – Executive Conference Room\nAddress – 601 Genome Way Northwest\, Huntsville\, AL 35806\nGoogle Meet – https://meet.google.com/krb-aizx-fja
URL:https://www.hsv.ai/event/vibe-coding-tips-and-tricks/
LOCATION:HudsonAlpha\, 601 Genome Way Northwest\, Huntsville\, AL\, 35806
ATTACH;FMTTYPE=image/png:https://www.hsv.ai/wp-content/uploads/2026/02/Gemini_Generated_Image_a4kpppa4kpppa4kp.png
END:VEVENT
END:VCALENDAR