BEGIN:VCALENDAR
VERSION:2.0
PRODID:-//Huntsville AI - ECPv6.8.3//NONSGML v1.0//EN
CALSCALE:GREGORIAN
METHOD:PUBLISH
X-ORIGINAL-URL:https://www.hsv.ai
X-WR-CALDESC:Events for Huntsville AI
REFRESH-INTERVAL;VALUE=DURATION:PT1H
X-Robots-Tag:noindex
X-PUBLISHED-TTL:PT1H
BEGIN:VTIMEZONE
TZID:America/Chicago
BEGIN:DAYLIGHT
TZOFFSETFROM:-0600
TZOFFSETTO:-0500
TZNAME:CDT
DTSTART:20250309T080000
END:DAYLIGHT
BEGIN:STANDARD
TZOFFSETFROM:-0500
TZOFFSETTO:-0600
TZNAME:CST
DTSTART:20251102T070000
END:STANDARD
END:VTIMEZONE
BEGIN:VEVENT
DTSTART;TZID=America/Chicago:20250301T000000
DTEND;TZID=America/Chicago:20250301T235959
DTSTAMP:20260424T192341
CREATED:20241216T013024Z
LAST-MODIFIED:20250222T160525Z
UID:1820-1740787200-1740873599@www.hsv.ai
SUMMARY:HudsonAlpha Tech Challenge
DESCRIPTION:
URL:https://www.hsv.ai/event/hudsonalpha-tech-challenge-2/
LOCATION:HudsonAlpha\, 601 Genome Way Northwest\, Huntsville\, AL\, 35806
ATTACH;FMTTYPE=image/png:https://www.hsv.ai/wp-content/uploads/2024/12/hatch-1.png
END:VEVENT
BEGIN:VEVENT
DTSTART;TZID=America/Chicago:20250305T180000
DTEND;TZID=America/Chicago:20250305T193000
DTSTAMP:20260424T192341
CREATED:20250222T161147Z
LAST-MODIFIED:20250303T052124Z
UID:1864-1741197600-1741203000@www.hsv.ai
SUMMARY:Agentic AI
DESCRIPTION:This week we will go through the AI Agents course offered by HuggingFace. The course consists of 4 units\, and the first two have been released so far. This is a self-paced course with a lot of good material and hands-on examples. There’s also a certificate when you finish if you are interested in that. \nSeveral of us have made it through portions of the course so far\, so the intent is to compare notes and give everyone an overview and tips on what parts to jump into. \nHudsonAlpha Tech Challenge \nWe’ll also review our experience with the HudsonAlpha Tech Challenge from this weekend. It was a lot of fun\, even though we didn’t place. I’m looking forward to see how this challenge progresses next year. There’s a link to our submission below. \nPaper Review Series \nThe next installment of the paper review series is planned for 3/12 to cover the Claude 3.7 and GPT 4.5 drops and dive into the system card papers for both of them. Lots of interesting topics around mechanistic interpretability (mainly related to Sparse Autoencoders) in the anthropic card.\n\n\n\n\n\n\n\n\n\n\n\n\n\n\n\n\n\n\n\n\n\n\n\n\n\n\n\n\n\n\nLinks & Other Events: \n\n2025 HATCH Submission – https://devpost.com/software/deep-learning-microscopy-for-dummies\n2025 HATCH GitHub Repo – https://github.com/HSV-AI/hatch-2025\nHuggingFace AI Agents Course – https://huggingface.co/agents-course\n\nDetails: \n\nDate – 3/05/2025\nTime – 6-7:30pm\nLocation – HudsonAlpha\nAddress –  601 Genome Way Northwest\, Huntsville\, AL 35806\nZoom –https://us02web.zoom.us/j/85363006279?pwd=l27YI4usuybfL0bbaTQU7eYnIeXYLx.1
URL:https://www.hsv.ai/event/agentic-ai/
LOCATION:HudsonAlpha\, 601 Genome Way Northwest\, Huntsville\, AL\, 35806
ATTACH;FMTTYPE=image/png:https://www.hsv.ai/wp-content/uploads/2025/02/Agentic-AI.png
END:VEVENT
BEGIN:VEVENT
DTSTART;TZID=America/Chicago:20250312T180000
DTEND;TZID=America/Chicago:20250312T193000
DTSTAMP:20260424T192341
CREATED:20250222T161916Z
LAST-MODIFIED:20250309T145736Z
UID:1868-1741802400-1741807800@www.hsv.ai
SUMMARY:Paper Review - Claude 3.7 Sonnet
DESCRIPTION:Join us virtually this Wednesday at 6pm to continue our monthly Paper Review series! This week will be a detailed review of the system card paper for Anthropic’s Claude 3.7 Sonnet. Claude 3.7 is a new hybrid reasoning model designed to enhance transparency in AI decision-making processes. \nThis virtual session will examine the technical aspects of Claude 3.7\, including its Extended Thinking Mode\, training methodologies using publicly available datasets\, human feedback\, and Constitutional AI principles. The discussion will explore the model’s performance across various tasks\, such as software engineering\, cybersecurity\, and autonomous agents\, highlighting strengths and addressing limitations. We will also look at the coding agent “Claude Code” released alongside 3.7 sonnet. Researchers\, practitioners\, and enthusiasts interested in recent advancements in AI reasoning\, code agents\, and transparency will benefit from the insights provided. \nThis event aims to offer a clear overview of Claude 3.7’s contributions\, implications for responsible AI development\, and directions for future research and experimentation.\n\n\n\n\n\n\n\n\n\n\n\n\n\n\n\n\n\n\n\n\n\n\n\n\n\n\n\n\n\n\nLinks: \n\nClaude 3.7 System Card : https://assets.anthropic.com/m/785e231869ea8b3b/original/claude-3-7-sonnet-system-card.pdf\nAnthropic Responsible Scaling Policy : https://www.anthropic.com/news/anthropics-responsible-scaling-policy\nClaude Code : https://ai-claude.net/code/\nConstitutional Classifiers : https://www.anthropic.com/research/constitutional-classifiers\nCybench (Cyber Benchmark) : https://arxiv.org/abs/2408.08926\nMCP Servers : https://modelcontextprotocol.io/introduction\n\nDetails: \n\nDate – 3/12/2025\nTime – 6-7:30pm\nLocation – VIRTUAL\nZoom –https://us02web.zoom.us/j/83232316418?pwd=EnACbNMcgsoWnOVa1XKGjId19FtjuG.1
URL:https://www.hsv.ai/event/virtual-paper-review/
ATTACH;FMTTYPE=image/png:https://www.hsv.ai/wp-content/uploads/2025/02/Paper-Series-Claude-3.7.png
END:VEVENT
BEGIN:VEVENT
DTSTART;TZID=America/Chicago:20250319T180000
DTEND;TZID=America/Chicago:20250319T193000
DTSTAMP:20260424T192341
CREATED:20250222T161602Z
LAST-MODIFIED:20250222T161602Z
UID:1866-1742407200-1742412600@www.hsv.ai
SUMMARY:Huntsville AI Social
DESCRIPTION:
URL:https://www.hsv.ai/event/huntsville-ai-social/
LOCATION:Stovehouse\, 3414 Governors Dr SW\, Huntsville\, AL\, 35805
ATTACH;FMTTYPE=image/png:https://www.hsv.ai/wp-content/uploads/2024/10/Social.png
END:VEVENT
END:VCALENDAR