BEGIN:VCALENDAR
VERSION:2.0
PRODID:-//Huntsville AI - ECPv6.8.3//NONSGML v1.0//EN
CALSCALE:GREGORIAN
METHOD:PUBLISH
X-WR-CALNAME:Huntsville AI
X-ORIGINAL-URL:https://www.hsv.ai
X-WR-CALDESC:Events for Huntsville AI
REFRESH-INTERVAL;VALUE=DURATION:PT1H
X-Robots-Tag:noindex
X-PUBLISHED-TTL:PT1H
BEGIN:VTIMEZONE
TZID:America/Chicago
BEGIN:DAYLIGHT
TZOFFSETFROM:-0600
TZOFFSETTO:-0500
TZNAME:CDT
DTSTART:20260308T080000
END:DAYLIGHT
BEGIN:STANDARD
TZOFFSETFROM:-0500
TZOFFSETTO:-0600
TZNAME:CST
DTSTART:20261101T070000
END:STANDARD
END:VTIMEZONE
BEGIN:VEVENT
DTSTART;TZID=America/Chicago:20260304T180000
DTEND;TZID=America/Chicago:20260304T193000
DTSTAMP:20260422T221746
CREATED:20260303T021725Z
LAST-MODIFIED:20260303T021725Z
UID:2154-1772647200-1772652600@www.hsv.ai
SUMMARY:Intro to OpenClaw
DESCRIPTION:This week\, we’ll attempt to cover OpenClaw. Some in the group have used it\, but many of us haven’t had a chance – or may just be hesitant based on the potential for hazards. So this week will be a little more of an ad-hoc discussion. If you have used OpenClaw\, we would love to hear about your experience. \nOpenClaw is a free\, open-source\, self-hosted AI agent designed to act as a 24/7 digital employee rather than just a chatbot. \nIt can read/write files\, run terminal commands\, and control a web browser. You interact with it via apps you already use\, such as Telegram\, WhatsApp\, or Discord\, rather than a proprietary web portal. It remembers your preferences\, past conversations\, and long-term goals\, evolving into a tailored assistant over time. It can be programmed to work while you sleep—monitoring GitHub repos\, checking flights\, or even conducting business outreach autonomously. \n\n\n\n\n\n\n\n\n\n\n\n\n\n\n\n\n\n\n\n\n\n\n\n\n\n\n\n\n\n\n\nLinks: \n\nhttps://openclaw.ai/\n\nDetails: \n\nDate – 03/04/2026\nTime – 6:00 – 7:30 pm\nLocation – HudsonAlpha – Executive Conference Room\nAddress – 601 Genome Way Northwest\, Huntsville\, AL 35806\nGoogle Meet – https://meet.google.com/xyk-amgy-ojt
URL:https://www.hsv.ai/event/intro-to-openclaw/
LOCATION:HudsonAlpha\, 601 Genome Way Northwest\, Huntsville\, AL\, 35806
ATTACH;FMTTYPE=image/png:https://www.hsv.ai/wp-content/uploads/2026/03/Gemini_Generated_Image_c39u0uc39u0uc39u.png
END:VEVENT
END:VCALENDAR