BEGIN:VCALENDAR
VERSION:2.0
PRODID:-//Huntsville AI - ECPv6.8.3//NONSGML v1.0//EN
CALSCALE:GREGORIAN
METHOD:PUBLISH
X-WR-CALNAME:Huntsville AI
X-ORIGINAL-URL:https://www.hsv.ai
X-WR-CALDESC:Events for Huntsville AI
REFRESH-INTERVAL;VALUE=DURATION:PT1H
X-Robots-Tag:noindex
X-PUBLISHED-TTL:PT1H
BEGIN:VTIMEZONE
TZID:America/Chicago
BEGIN:DAYLIGHT
TZOFFSETFROM:-0600
TZOFFSETTO:-0500
TZNAME:CDT
DTSTART:20260308T080000
END:DAYLIGHT
BEGIN:STANDARD
TZOFFSETFROM:-0500
TZOFFSETTO:-0600
TZNAME:CST
DTSTART:20261101T070000
END:STANDARD
END:VTIMEZONE
BEGIN:VEVENT
DTSTART;TZID=America/Chicago:20260121T130000
DTEND;TZID=America/Chicago:20260121T143000
DTSTAMP:20260425T171901
CREATED:20260112T021540Z
LAST-MODIFIED:20260112T022457Z
UID:2131-1769000400-1769005800@www.hsv.ai
SUMMARY:Learning Quest #2 - AI 101
DESCRIPTION:This second session is supporting LearningQuest to provide an AI-101 class for its members. \nlquest.org
URL:https://www.hsv.ai/event/learning-quest-2-ai-101/
LOCATION:Huntsville Madison County Library\, 915 Monroe St\, Huntsville\, AL\, 35801\, United States
ATTACH;FMTTYPE=image/png:https://www.hsv.ai/wp-content/uploads/2024/12/LearningQuest.png
END:VEVENT
BEGIN:VEVENT
DTSTART;TZID=America/Chicago:20260121T180000
DTEND;TZID=America/Chicago:20260121T193000
DTSTAMP:20260425T171901
CREATED:20260112T022339Z
LAST-MODIFIED:20260119T042726Z
UID:2134-1769018400-1769023800@www.hsv.ai
SUMMARY:AI Literacy & SamGeo
DESCRIPTION:Jacquelyn Neal is facilitating a workshop at Vanderbilt on AI literacy the first weekend of February. She will do a run through of a hands-on activity and get some feedback from the group. \nWe had a similar conversation about AI Literacy last week with the LearningQuest group. I presented a set of categories and asked for input. I could use the same input from this email distribution if you would like to reply. \nAI Literacy Levels: \n\nUNAWARE – people that use AI\, but don’t know it. Email spam filters\, product recommendations\, voice assistants\, map navigation\, etc.\nADOPTED – people that use available AI tools as part of their daily life or job. Summarizing text\, researching questions\, planning\, etc.\nADVANCED – people that are trying the latest and greatest advancements\, possibly in new ways.\n\nFor the second half of the meetup\, I will cover what I have been working with using satellite imagery\, combined with Cropscape data to identify individual agriculture fields. \n\n\n\n\n\n\n\n\n\n\n\n\n\n\n\n\n\n\n\n\n\n\n\n\n\n\n\n\n\n\n\nLinks: \n\nSamGeo – https://samgeo.gishub.org/\nCropScape Data – https://nassgeodata.gmu.edu/CropScape/index.jsp?state=AL\n\nDetails: \n\nDate – 01/21/2026\nTime – 6:00 – 7:30 pm\nLocation – HudsonAlpha\nAddress – 601 Genome Way Northwest\, Huntsville\, AL 35806\nGoogle Meet – https://meet.google.com/mof-nhkk-jes
URL:https://www.hsv.ai/event/ai-literacy-other-topics/
LOCATION:HudsonAlpha\, 601 Genome Way Northwest\, Huntsville\, AL\, 35806
ATTACH;FMTTYPE=image/png:https://www.hsv.ai/wp-content/uploads/2026/01/Measuring-AI-Literacy.png
END:VEVENT
END:VCALENDAR