BEGIN:VCALENDAR
VERSION:2.0
PRODID:-//Huntsville AI - ECPv6.8.3//NONSGML v1.0//EN
CALSCALE:GREGORIAN
METHOD:PUBLISH
X-ORIGINAL-URL:https://www.hsv.ai
X-WR-CALDESC:Events for Huntsville AI
REFRESH-INTERVAL;VALUE=DURATION:PT1H
X-Robots-Tag:noindex
X-PUBLISHED-TTL:PT1H
BEGIN:VTIMEZONE
TZID:America/Chicago
BEGIN:DAYLIGHT
TZOFFSETFROM:-0600
TZOFFSETTO:-0500
TZNAME:CDT
DTSTART:20250309T080000
END:DAYLIGHT
BEGIN:STANDARD
TZOFFSETFROM:-0500
TZOFFSETTO:-0600
TZNAME:CST
DTSTART:20251102T070000
END:STANDARD
END:VTIMEZONE
BEGIN:VEVENT
DTSTART;TZID=America/Chicago:20251217T180000
DTEND;TZID=America/Chicago:20251217T193000
DTSTAMP:20260422T204435
CREATED:20251215T211622Z
LAST-MODIFIED:20251215T211622Z
UID:2074-1765994400-1765999800@www.hsv.ai
SUMMARY:2025 Year in Review
DESCRIPTION:It’s that time again! \nWe’ll get together this week to do a round-up of the topics that we covered this year and look at what’s coming up for 2026.\n\n\n\n\n\n\n\n\n\n\n\n\n\n\n\n\n\n\n\n\n\n\n\n\n\n\n\n\n\n\nDetails: \n\nDate – 12/17/2025\nTime – 6:00 – 7:30 pm\nLocation – HudsonAlpha\nAddress – 601 Genome Way Northwest\, Huntsville\, AL 35806\nGoogle Meet – https://meet.google.com/rny-scve-cic
URL:https://www.hsv.ai/event/2025-year-in-review/
LOCATION:HudsonAlpha\, 601 Genome Way Northwest\, Huntsville\, AL\, 35806
ATTACH;FMTTYPE=image/png:https://www.hsv.ai/wp-content/uploads/2025/12/Gemini_Generated_Image_fhqianfhqianfhqi.png
END:VEVENT
END:VCALENDAR