BEGIN:VCALENDAR
VERSION:2.0
PRODID:-//Huntsville AI - ECPv6.8.3//NONSGML v1.0//EN
CALSCALE:GREGORIAN
METHOD:PUBLISH
X-WR-CALNAME:Huntsville AI
X-ORIGINAL-URL:https://www.hsv.ai
X-WR-CALDESC:Events for Huntsville AI
REFRESH-INTERVAL;VALUE=DURATION:PT1H
X-Robots-Tag:noindex
X-PUBLISHED-TTL:PT1H
BEGIN:VTIMEZONE
TZID:America/Chicago
BEGIN:DAYLIGHT
TZOFFSETFROM:-0600
TZOFFSETTO:-0500
TZNAME:CDT
DTSTART:20250309T080000
END:DAYLIGHT
BEGIN:STANDARD
TZOFFSETFROM:-0500
TZOFFSETTO:-0600
TZNAME:CST
DTSTART:20251102T070000
END:STANDARD
END:VTIMEZONE
BEGIN:VEVENT
DTSTART;TZID=America/Chicago:20251112T180000
DTEND;TZID=America/Chicago:20251112T190000
DTSTAMP:20260423T042450
CREATED:20251103T042752Z
LAST-MODIFIED:20251110T042908Z
UID:2052-1762970400-1762974000@www.hsv.ai
SUMMARY:Virtual Paper Review
DESCRIPTION:Join us virtually this Wednesday at 6 pm to continue our monthly Paper Review series! \nThis week I’m teaming up with David Showalter to cover three papers in two different domains. The first will be David covering “Emergent Introspective Awareness in Large Language Models” to talk about whether or not LLMs can actually detect what they are “thinking”. If you’ve been in some of our sessions before\, you may have participated in discussions about LLM output describing what it’s thinking. The question is whether this is based on anything realistic – or just another place where a model was trained to give us output that we find acceptable. \nThe second set of papers we’ll cover are focused on the occupational and economic impact of AI. I have been getting more and more questions about whether “AI is going to take our jobs”. Instead of answering the question directly\, we’ll look at the best studies we can find that provide real data about what types of tasks can be automated by AI and what jobs may be at risk. \nNOTE – The previous paper review using Google Meet went really well\, so we’re going to continue that approach. I’ll be monitoring this email as we get started up\, so please let me know if you have issues joining. You do not need a Google account to join\, but I’m sure it will ask to use one if you have it.\n\n\n\n\n\n\n\n\n\n\n\n\n\n\n\n\n\n\n\n\n\n\n\n\n\n\n\n\n\n\nLinks: \n\nEmergent Introspective Awareness in Large Language Models – https://transformer-circuits.pub/2025/introspection/index.html\nMeasuring the performance of our models on real-world tasks – https://openai.com/index/gdpval/\nAnthropic Economic Index\, Understanding AI’s effects on the economy – https://www.anthropic.com/economic-index\n\nDetails: \n\nDate – 11/12/2025\nTime – 6-7:30pm\nLocation – VIRTUAL\nGoogle Meet – https://meet.google.com/pqo-obmo-rkh\nDial in:‪(US) +1 573-343-8318‬ PIN: ‪687 416 010‬#
URL:https://www.hsv.ai/event/251112-virtual-paper-review/
ATTACH;FMTTYPE=image/png:https://www.hsv.ai/wp-content/uploads/2025/02/Paper-Review.png
END:VEVENT
END:VCALENDAR