BEGIN:VCALENDAR
VERSION:2.0
PRODID:-//Huntsville AI - ECPv6.8.3//NONSGML v1.0//EN
CALSCALE:GREGORIAN
METHOD:PUBLISH
X-WR-CALNAME:Huntsville AI
X-ORIGINAL-URL:https://www.hsv.ai
X-WR-CALDESC:Events for Huntsville AI
REFRESH-INTERVAL;VALUE=DURATION:PT1H
X-Robots-Tag:noindex
X-PUBLISHED-TTL:PT1H
BEGIN:VTIMEZONE
TZID:America/Chicago
BEGIN:DAYLIGHT
TZOFFSETFROM:-0600
TZOFFSETTO:-0500
TZNAME:CDT
DTSTART:20250309T080000
END:DAYLIGHT
BEGIN:STANDARD
TZOFFSETFROM:-0500
TZOFFSETTO:-0600
TZNAME:CST
DTSTART:20251102T070000
END:STANDARD
END:VTIMEZONE
BEGIN:VEVENT
DTSTART;TZID=America/Chicago:20251104T090000
DTEND;TZID=America/Chicago:20251104T120000
DTSTAMP:20260423T042507
CREATED:20251103T042555Z
LAST-MODIFIED:20251103T042555Z
UID:2049-1762246800-1762257600@www.hsv.ai
SUMMARY:Congressional Office of International Leadership
DESCRIPTION:AI Discussion supporting the Congressional Office of International Leadership. There is a group of 6 from Latvia here as part of this program. The normal agenda has been greatly affected by the government shutdown (no NASA\, etc)\, so they asked if I can talk about AI. The plan is to talk about AI\, innovation\, community\, entrepreneurship\, etc.
URL:https://www.hsv.ai/event/congressional-office-of-international-leadership/
ATTACH;FMTTYPE=image/png:https://www.hsv.ai/wp-content/uploads/2025/11/COIL.png
END:VEVENT
END:VCALENDAR