BEGIN:VCALENDAR
VERSION:2.0
PRODID:-//Huntsville AI - ECPv6.8.3//NONSGML v1.0//EN
CALSCALE:GREGORIAN
METHOD:PUBLISH
X-WR-CALNAME:Huntsville AI
X-ORIGINAL-URL:https://www.hsv.ai
X-WR-CALDESC:Events for Huntsville AI
REFRESH-INTERVAL;VALUE=DURATION:PT1H
X-Robots-Tag:noindex
X-PUBLISHED-TTL:PT1H
BEGIN:VTIMEZONE
TZID:America/Chicago
BEGIN:DAYLIGHT
TZOFFSETFROM:-0600
TZOFFSETTO:-0500
TZNAME:CDT
DTSTART:20250309T080000
END:DAYLIGHT
BEGIN:STANDARD
TZOFFSETFROM:-0500
TZOFFSETTO:-0600
TZNAME:CST
DTSTART:20251102T070000
END:STANDARD
END:VTIMEZONE
BEGIN:VEVENT
DTSTART;TZID=America/Chicago:20251008T180000
DTEND;TZID=America/Chicago:20251008T193000
DTSTAMP:20260423T042507
CREATED:20250929T121118Z
LAST-MODIFIED:20251005T144454Z
UID:2033-1759946400-1759951800@www.hsv.ai
SUMMARY:Virtual Paper Review - Structured Agentic Software Engineering
DESCRIPTION:Join us virtually this Wednesday at 6 pm to continue our monthly Paper Review series! \nWe’ll unpack how “SE 3.0” organizes human–AI teamwork so outcomes are traceable and reviewable. The paper proposes two coordinated workspaces and a set of lightweight scripts that turn vague tasks into auditable\, versioned work. \nPart I – Foundations \n\nWhy SE 3.0: from code suggestions to goal-driven engineering\nTwo workbenches explained: ACE (people) and AEE (agents)\nCore scripts summarized: BriefingScript\, LoopScript\, MentorScript\nWhat “merge-readiness” means as evidence\, not opinion\n\nPart II – Deep Dive \n\nEnd-to-end flow: ticket → scripts → agent runs → evidence → decision\nConsultation Request Packs (when agents ask for human guidance)\nMerge-Readiness Packs (what evidence reviewers actually need)\nOpen research lanes: briefing quality\, loop design\, tooling\, governance\, teaming\n\nNOTE – We are moving from Zoom to Google Meet this week for a trial run. I’ll be monitoring this email as we get started up\, so please let me know if you have issues joining. You do not need a Google account to join\, but I’m sure it will ask to use one if you have it. \nLinks: \n\nMain Paper: Agentic Software Engineering: Foundational Pillars and a Research Roadmap — https://arxiv.org/abs/2509.06216\n\nDetails: \n\nDate – 10/08/2025\nTime – 6-7:30pm\nLocation – VIRTUAL\nGoogle Meet – https://meet.google.com/tuq-utxh-riq\nDial in:‪(US) +1 260-344-4610‬ PIN: ‪207 448 030‬#
URL:https://www.hsv.ai/event/structured-agentic-software-engineering/
ATTACH;FMTTYPE=image/png:https://www.hsv.ai/wp-content/uploads/2025/09/Structured-Agentic-Software-Engineering.png
END:VEVENT
END:VCALENDAR