BEGIN:VCALENDAR
VERSION:2.0
PRODID:-//Huntsville AI - ECPv6.8.3//NONSGML v1.0//EN
CALSCALE:GREGORIAN
METHOD:PUBLISH
X-ORIGINAL-URL:https://www.hsv.ai
X-WR-CALDESC:Events for Huntsville AI
REFRESH-INTERVAL;VALUE=DURATION:PT1H
X-Robots-Tag:noindex
X-PUBLISHED-TTL:PT1H
BEGIN:VTIMEZONE
TZID:America/Chicago
BEGIN:DAYLIGHT
TZOFFSETFROM:-0600
TZOFFSETTO:-0500
TZNAME:CDT
DTSTART:20250309T080000
END:DAYLIGHT
BEGIN:STANDARD
TZOFFSETFROM:-0500
TZOFFSETTO:-0600
TZNAME:CST
DTSTART:20251102T070000
END:STANDARD
END:VTIMEZONE
BEGIN:VEVENT
DTSTART;TZID=America/Chicago:20250910T180000
DTEND;TZID=America/Chicago:20250910T193000
DTSTAMP:20260423T055737
CREATED:20250906T123102Z
LAST-MODIFIED:20250906T123102Z
UID:2020-1757527200-1757532600@www.hsv.ai
SUMMARY:Virtual Paper Review: Occupational Implications of Generative AI
DESCRIPTION:Join us virtually this Wednesday at 6 pm to continue our monthly Paper Review series! We will walk through a recent paper from Microsoft titled “Working with AI: Measuring the Occupational Implications of Generative AI”. This paper uses Microsoft’s unique position to analyze 200\,000 anonymized conversations with Microsoft Bing Copilot (now Microsoft Copilot) from U.S. users in 2024. \nThe basic premise of the paper is to evaluate how much Generative AI use overlaps with different occupations. \nMore specifically\, we will look at: \n\nDual Role Analysis: User Goals vs. AI Actions\nThe paper distinguishes between the tasks users want AI to help with and what the AI actually does\, enabling a nuanced view of augmentation versus automation.\nAI Applicability Score Framework\nBy integrating coverage\, success\, and scope metrics into an applicability score\, the study provides a quantitative\, occupation-level measure of AI relevance that aligns well with theoretical models.\nSocioeconomic Insights & Cautions on Impact Interpretation\nThe correlation with predicted models\, modest wage/education effects\, and the historical perspective on economic consequences underscore both the promise and the uncertainty of AI’s real-world occupational effects.\n\n\n\n\n\n\n\n\n\n\n\n\n\n\n\n\n\n\n\n\n\n\n\n\n\n\n\n\n\n\n\n\nLinks: \n\nPaper – https://arxiv.org/pdf/2507.07935\n\nDetails: \n\nDate – 9/10/2025\nTime – 6-7:30pm\nLocation – VIRTUAL\nZoom –https://us02web.zoom.us/j/81918891827?pwd=fLpDXskTscvo37Mva45G90yKMhiLx1.1
URL:https://www.hsv.ai/event/virtual-paper-review-occupational-implications-of-generative-ai/
ATTACH;FMTTYPE=image/png:https://www.hsv.ai/wp-content/uploads/2025/09/Occupational-Implications.png
END:VEVENT
END:VCALENDAR