BEGIN:VCALENDAR
VERSION:2.0
PRODID:-//Huntsville AI - ECPv6.8.3//NONSGML v1.0//EN
CALSCALE:GREGORIAN
METHOD:PUBLISH
X-WR-CALNAME:Huntsville AI
X-ORIGINAL-URL:https://www.hsv.ai
X-WR-CALDESC:Events for Huntsville AI
REFRESH-INTERVAL;VALUE=DURATION:PT1H
X-Robots-Tag:noindex
X-PUBLISHED-TTL:PT1H
BEGIN:VTIMEZONE
TZID:America/Chicago
BEGIN:DAYLIGHT
TZOFFSETFROM:-0600
TZOFFSETTO:-0500
TZNAME:CDT
DTSTART:20250309T080000
END:DAYLIGHT
BEGIN:STANDARD
TZOFFSETFROM:-0500
TZOFFSETTO:-0600
TZNAME:CST
DTSTART:20251102T070000
END:STANDARD
END:VTIMEZONE
BEGIN:VEVENT
DTSTART;TZID=America/Chicago:20250903T180000
DTEND;TZID=America/Chicago:20250903T193000
DTSTAMP:20260423T055618
CREATED:20250901T224933Z
LAST-MODIFIED:20250901T224933Z
UID:2017-1756922400-1756927800@www.hsv.ai
SUMMARY:Midjourney - Beginner to Expert
DESCRIPTION:Join us this week to learn how to get the most of out Midjourney! David Showalter will be leading this session\, drawing on his experience with more than 75\,000 prompts. David has used Midjourney for personal creativity and exploration\, concept art for work projects and presentations\, and a few finished images for work. \nThis session will be a live demo covering the journey from getting started as a beginner to expert level tips for image and video creation: \n\nSignup and Costs\nGeneral prompt structure\nOverview of settings and commands\nPersonalization and mood boards\nEditing and Retexturing\nVideo\nAuto-prompt generation using other AI\n\n\n\n\n\n\n\n\n\n\n\n\n\n\n\n\n\n\n\n\n\n\n\n\n\n\n\n\n\n\n\n\nLinks & Other Resources: \n\nMidjourney – https://www.midjourney.com/home\nDocumentation and Guides – https://docs.midjourney.com/hc/en-us/categories/32013335627533-Documentation\nMidjourney TV – https://www.midjourney.tv/\nv7 SREF Catalog – https://www.playbook.com/s/cqdesigns/new-v7-sref-mining\n\nDetails: \n\nDate – 9/03/2025\nTime – 6:00 – 7:30 pm\nLocation – HudsonAlpha\nAddress – 601 Genome Way Northwest\, Huntsville\, AL 35806\nZoom – https://us02web.zoom.us/j/88395736080?pwd=yIVwcn6SfY0eBh4bEf9K2vzzvM648g.1
URL:https://www.hsv.ai/event/midjourney-beginner-to-expert/
LOCATION:HudsonAlpha\, 601 Genome Way Northwest\, Huntsville\, AL\, 35806
ATTACH;FMTTYPE=image/png:https://www.hsv.ai/wp-content/uploads/2025/09/Midjourney-Prompting.png
END:VEVENT
END:VCALENDAR