BEGIN:VCALENDAR
VERSION:2.0
PRODID:-//Huntsville AI - ECPv6.8.3//NONSGML v1.0//EN
CALSCALE:GREGORIAN
METHOD:PUBLISH
X-WR-CALNAME:Huntsville AI
X-ORIGINAL-URL:https://www.hsv.ai
X-WR-CALDESC:Events for Huntsville AI
REFRESH-INTERVAL;VALUE=DURATION:PT1H
X-Robots-Tag:noindex
X-PUBLISHED-TTL:PT1H
BEGIN:VTIMEZONE
TZID:America/Chicago
BEGIN:DAYLIGHT
TZOFFSETFROM:-0600
TZOFFSETTO:-0500
TZNAME:CDT
DTSTART:20250309T080000
END:DAYLIGHT
BEGIN:STANDARD
TZOFFSETFROM:-0500
TZOFFSETTO:-0600
TZNAME:CST
DTSTART:20251102T070000
END:STANDARD
END:VTIMEZONE
BEGIN:VEVENT
DTSTART;TZID=America/Chicago:20250723T180000
DTEND;TZID=America/Chicago:20250723T193000
DTSTAMP:20260424T082621
CREATED:20250515T002054Z
LAST-MODIFIED:20250721T020701Z
UID:1963-1753293600-1753299000@www.hsv.ai
SUMMARY:Replit AI Agent
DESCRIPTION:This week we’ll have Jack Francis as our guest speaker! He will be talking about Replit’s AI Agent for creating applications.  \n“This session demonstrates how to turn an idea into a functional application in minutes using Replit’s AI Agent. We’ll demystify the mechanics behind this powerful AI coding assistant\, tour the Replit platform\, and then build a complete application from scratch—all driven by simple prompts. You’ll learn how to leverage the Agent for rapid prototyping to get immediate feedback on your ideas. We will cover practical strategies for integrating this tool into your workflow\, whether you’re a seasoned developer looking to accelerate your process or a complete beginner eager to bring your creations to life.”\n\n\n\n\n\n\n\n\n\n\n\n\n\n\n\n\n\n\n\n\n\n\n\n\n\n\n\n\n\n\nLinks & Other Resources: \n\nReplit AI – https://replit.com/ai\n\nDetails: \n\nDate – 7/23/2025\nTime – 6:00 – 7:30 pm\nLocation – HudsonAlpha\nAddress – 601 Genome Way Northwest\, Huntsville\, AL 35806\nZoom – https://us02web.zoom.us/j/87872699213?pwd=1uu2hoca7RGaMTQO3NaIcp2YEqH3kI.1
URL:https://www.hsv.ai/event/replit-ai-agent/
LOCATION:HudsonAlpha\, 601 Genome Way Northwest\, Huntsville\, AL\, 35806
ATTACH;FMTTYPE=image/png:https://www.hsv.ai/wp-content/uploads/2025/05/Replit-AI-Agent-.png
END:VEVENT
END:VCALENDAR