BEGIN:VCALENDAR
VERSION:2.0
PRODID:-//Huntsville AI - ECPv6.8.3//NONSGML v1.0//EN
CALSCALE:GREGORIAN
METHOD:PUBLISH
X-WR-CALNAME:Huntsville AI
X-ORIGINAL-URL:https://www.hsv.ai
X-WR-CALDESC:Events for Huntsville AI
REFRESH-INTERVAL;VALUE=DURATION:PT1H
X-Robots-Tag:noindex
X-PUBLISHED-TTL:PT1H
BEGIN:VTIMEZONE
TZID:America/Chicago
BEGIN:DAYLIGHT
TZOFFSETFROM:-0600
TZOFFSETTO:-0500
TZNAME:CDT
DTSTART:20250309T080000
END:DAYLIGHT
BEGIN:STANDARD
TZOFFSETFROM:-0500
TZOFFSETTO:-0600
TZNAME:CST
DTSTART:20251102T070000
END:STANDARD
END:VTIMEZONE
BEGIN:VEVENT
DTSTART;TZID=America/Chicago:20250707T173000
DTEND;TZID=America/Chicago:20250707T193000
DTSTAMP:20260423T182036
CREATED:20250515T001829Z
LAST-MODIFIED:20250701T121224Z
UID:1961-1751909400-1751916600@www.hsv.ai
SUMMARY:Social Night!
DESCRIPTION:Join us for our summer social! This time we’ll be inside at the private room in Yellowhammer Brewing. There is good pizza available from Earth and Stone Pizza. We’ll also have part of the patio to ourselves if you miss the Alabama heat. The private room was only available for Monday\, so hopefully that doesn’t throw anyone off. We’ll be back on our normal Wednesday schedule after this. \nIf you have been looking for an easy time to get involved and meet others in the group – THIS IS IT! – I always have trouble keeping up with all of the conversations and connections that happen\, so please be sure to say hi to someone you don’t know. \nThis officially starts at 5:30pm\, but I’ll be there as soon as I can get out of the office – which is hopefully 5pm7
URL:https://www.hsv.ai/event/social-night/
LOCATION:Yellowhammer Brewing\, 2600 Clinton Ave W\, Huntsville\, AL\, 35805\, United States
ATTACH;FMTTYPE=image/png:https://www.hsv.ai/wp-content/uploads/2022/05/220316-Social.png
END:VEVENT
END:VCALENDAR