BEGIN:VCALENDAR
VERSION:2.0
PRODID:-//Huntsville AI - ECPv6.8.3//NONSGML v1.0//EN
CALSCALE:GREGORIAN
METHOD:PUBLISH
X-WR-CALNAME:Huntsville AI
X-ORIGINAL-URL:https://www.hsv.ai
X-WR-CALDESC:Events for Huntsville AI
REFRESH-INTERVAL;VALUE=DURATION:PT1H
X-Robots-Tag:noindex
X-PUBLISHED-TTL:PT1H
BEGIN:VTIMEZONE
TZID:America/Chicago
BEGIN:DAYLIGHT
TZOFFSETFROM:-0600
TZOFFSETTO:-0500
TZNAME:CDT
DTSTART:20250309T080000
END:DAYLIGHT
BEGIN:STANDARD
TZOFFSETFROM:-0500
TZOFFSETTO:-0600
TZNAME:CST
DTSTART:20251102T070000
END:STANDARD
END:VTIMEZONE
BEGIN:VEVENT
DTSTART;TZID=America/Chicago:20250425T100000
DTEND;TZID=America/Chicago:20250425T120000
DTSTAMP:20260424T192009
CREATED:20250407T042435Z
LAST-MODIFIED:20250419T135613Z
UID:1908-1745575200-1745582400@www.hsv.ai
SUMMARY:Supporting American Planning Association Lunch & Learn
DESCRIPTION:The State of AI: Innovations\, Applications and Impacts in Planning \nFor the last 2 years\, AI has been one of the trends recommended in APA’s Trend Report for planners to act and prepare for. The report notes that while the advancements in Gen AI have the potential to greatly enhance public services\, there are concerns about cybersecurity and privacy\, as well as the environmental impact of the computing power required to support supercomputers. In this event\, the status and extent of AI technology especially in North Alabama will be explored. The impact of AI on our local economy and communities will also be discussed. \nDate & Time: April 25\, 2025\, 10:00 am – 12:00 pm \nSpeakers: \n\n Langley\n\nFounder of Huntsville AI and Chief Technical Officer of CohesionForce\, Inc. \nDr. Vineetha Menon \nDirector of the Big Data Analytics lab in the University of Alabama in Huntsville
URL:https://www.hsv.ai/event/supporting-american-planning-association-lunch-learn/
ATTACH;FMTTYPE=image/png:https://www.hsv.ai/wp-content/uploads/2025/04/American-Planning-Association.png
END:VEVENT
END:VCALENDAR