BEGIN:VCALENDAR
VERSION:2.0
PRODID:-//Huntsville AI - ECPv6.8.3//NONSGML v1.0//EN
CALSCALE:GREGORIAN
METHOD:PUBLISH
X-WR-CALNAME:Huntsville AI
X-ORIGINAL-URL:https://www.hsv.ai
X-WR-CALDESC:Events for Huntsville AI
REFRESH-INTERVAL;VALUE=DURATION:PT1H
X-Robots-Tag:noindex
X-PUBLISHED-TTL:PT1H
BEGIN:VTIMEZONE
TZID:America/Chicago
BEGIN:DAYLIGHT
TZOFFSETFROM:-0600
TZOFFSETTO:-0500
TZNAME:CDT
DTSTART:20250309T080000
END:DAYLIGHT
BEGIN:STANDARD
TZOFFSETFROM:-0500
TZOFFSETTO:-0600
TZNAME:CST
DTSTART:20251102T070000
END:STANDARD
END:VTIMEZONE
BEGIN:VEVENT
DTSTART;TZID=America/Chicago:20250423T180000
DTEND;TZID=America/Chicago:20250423T193000
DTSTAMP:20260424T191957
CREATED:20250222T213946Z
LAST-MODIFIED:20250409T011758Z
UID:1875-1745431200-1745436600@www.hsv.ai
SUMMARY:Virtual Paper Review - Diffusion Transformers & Flow Matching (Wan 2.1 Technical Report)
DESCRIPTION:Join us virtually this Wednesday at 6pm to continue our monthly Paper Review series! This month we are looking at the concepts behind recent advancements in video generation. We will focus on Diffusion Transformers and Flow Matching techniques\, culminating in a review of the recent Wan 2.1 technical report. \nThis virtual session will follow our usual format. In the first half\, we will cover foundational concepts essential for understanding the paper and related techniques: \n\nVariational Autoencoders (VAEs)\nWhat is a latent space?\nCore principles of Diffusion Models\nDiffusion Transformers (DiTs) architecture\nRectified Flow / Flow Matching concepts\n\nThe second half will then review the Wan paper\, analyzing its components and contributions in the context of the concepts discussed: \n\nThe overall model architecture and innovations\nImplementation and role of the Spatio-Temporal VAE\nDataset construction and usage\nDetails of the Captioning Pipeline for text-to-video/image\nVideo Editing with Wan (VACE)\nExperiments in Video to Audio generation\n\n \n\n\n\n\n\n\n\n\n\n\n\n\n\n\n\n\n\n\n\n\n\n\n\n\n\n\n\n\n\n\nLinks: \n\nhttps://arxiv.org/abs/2503.20314 : Wan Technical Report\nhttps://arxiv.org/abs/2212.09748 : Diffusion Transformers\nhttps://arxiv.org/pdf/2210.02747 : Flow Matching for Generative Models\nhttps://arxiv.org/abs/1312.6114 : Variational Autoencoders\n\nDetails: \n\nDate – 4/23/2025\nTime – 6-7:30pm\nLocation – VIRTUAL\nZoom –https://us02web.zoom.us/j/87940486028?pwd=xfuet8FvR7hc63na4v3XyYEl2rWoAP.1
URL:https://www.hsv.ai/event/paper-review-wan/
ATTACH;FMTTYPE=image/png:https://www.hsv.ai/wp-content/uploads/2025/02/Paper-Review-WAN.png
END:VEVENT
END:VCALENDAR